BEGIN:VCALENDAR
VERSION:2.0
PRODID:-//Krasman Centre - ECPv6.15.20//NONSGML v1.0//EN
CALSCALE:GREGORIAN
METHOD:PUBLISH
X-WR-CALNAME:Krasman Centre
X-ORIGINAL-URL:https://krasmancentre.com
X-WR-CALDESC:Events for Krasman Centre
REFRESH-INTERVAL;VALUE=DURATION:PT1H
X-Robots-Tag:noindex
X-PUBLISHED-TTL:PT1H
BEGIN:VTIMEZONE
TZID:UTC
BEGIN:STANDARD
TZOFFSETFROM:+0000
TZOFFSETTO:+0000
TZNAME:UTC
DTSTART:20190101T000000
END:STANDARD
END:VTIMEZONE
BEGIN:VEVENT
DTSTART;TZID=UTC:20200923T140000
DTEND;TZID=UTC:20200923T153000
DTSTAMP:20260424T170154
CREATED:20200827T195350Z
LAST-MODIFIED:20200827T225428Z
UID:10000462-1600869600-1600875000@krasmancentre.com
SUMMARY:Peers in the Park
DESCRIPTION:B I – W E E K L Y  O U T D O O R  A C T I V I T I E S\n( D I F F E R E N T  A C T I V I T Y  E A C H  W E E K ) \n\nYoga and Guided Meditation\nClay Sculptures\nHomemade Rain Sticks and Drums\nAdult Colouring Books\nPaint on Canvas\nMeditation and Mindful Movement – followed by Art found in Nature\n\nRegister with:\nTawnia Christos\, 437-224-5928\, t.christos@krasmancentre.com\nor\nMonica Poirier\, 705-896-4935\, m.poirier@krasmancentre.ca
URL:https://krasmancentre.com/event/peers-in-the-park-2/
LOCATION:Alliston\, Riverdale Park\, Alliston\, Ontario\, L9R 1M1\, Canada
CATEGORIES:COVID,Peer Support
ATTACH;FMTTYPE=image/png:https://krasmancentre.com/wp-content/uploads/2020/08/Screen-Shot-2020-08-27-at-11.08.10-AM.png
END:VEVENT
BEGIN:VEVENT
DTSTART;TZID=UTC:20200909T140000
DTEND;TZID=UTC:20200909T153000
DTSTAMP:20260424T170154
CREATED:20200827T191353Z
LAST-MODIFIED:20200827T225445Z
UID:10000463-1599660000-1599665400@krasmancentre.com
SUMMARY:Peers in the Park
DESCRIPTION:B I – W E E K L Y  O U T D O O R  A C T I V I T I E S\n( D I F F E R E N T  A C T I V I T Y  E A C H  W E E K ) \n\nYoga and Guided Meditation\nClay Sculptures\nHomemade Rain Sticks and Drums\nAdult Colouring Books\nPaint on Canvas\nMeditation and Mindful Movement – followed by Art found in Nature\n\nRegister with:\nTawnia Christos\, 437-224-5928\, t.christos@krasmancentre.com\nor\nMonica Poirier\, 705-896-4935\, m.poirier@krasmancentre.ca
URL:https://krasmancentre.com/event/peers-in-the-park/
LOCATION:Alliston\, Riverdale Park\, Alliston\, Ontario\, L9R 1M1\, Canada
CATEGORIES:COVID,Peer Support
ATTACH;FMTTYPE=image/png:https://krasmancentre.com/wp-content/uploads/2020/08/Screen-Shot-2020-08-27-at-11.08.10-AM.png
END:VEVENT
BEGIN:VEVENT
DTSTART;TZID=UTC:20200826T140000
DTEND;TZID=UTC:20200826T153000
DTSTAMP:20260424T170154
CREATED:20200827T224719Z
LAST-MODIFIED:20200827T225255Z
UID:10000461-1598450400-1598455800@krasmancentre.com
SUMMARY:Peers in the Park
DESCRIPTION:B I – W E E K L Y  O U T D O O R  A C T I V I T I E S\n( D I F F E R E N T  A C T I V I T Y  E A C H  W E E K ) \n\nYoga and Guided Meditation\nClay Sculptures\nHomemade Rain Sticks and Drums\nAdult Colouring Books\nPaint on Canvas\nMeditation and Mindful Movement – followed by Art found in Nature\n\nRegister with:\nTawnia Christos\, 437-224-5928\, t.christos@krasmancentre.com\nor\nMonica Poirier\, 705-896-4935\, m.poirier@krasmancentre.ca
URL:https://krasmancentre.com/event/peers-in-the-park-4/
LOCATION:Alliston\, Riverdale Park\, Alliston\, Ontario\, L9R 1M1\, Canada
CATEGORIES:COVID,Peer Support
ATTACH;FMTTYPE=image/png:https://krasmancentre.com/wp-content/uploads/2020/08/Screen-Shot-2020-08-27-at-11.08.10-AM.png
END:VEVENT
BEGIN:VEVENT
DTSTART;TZID=UTC:20200812T140000
DTEND;TZID=UTC:20200812T153000
DTSTAMP:20260424T170154
CREATED:20200827T224628Z
LAST-MODIFIED:20200827T225408Z
UID:10000015-1597240800-1597246200@krasmancentre.com
SUMMARY:Peers in the Park
DESCRIPTION:B I – W E E K L Y  O U T D O O R  A C T I V I T I E S\n( D I F F E R E N T  A C T I V I T Y  E A C H  W E E K ) \n\nYoga and Guided Meditation\nClay Sculptures\nHomemade Rain Sticks and Drums\nAdult Colouring Books\nPaint on Canvas\nMeditation and Mindful Movement – followed by Art found in Nature\n\nRegister with:\nTawnia Christos\, 437-224-5928\, t.christos@krasmancentre.com\nor\nMonica Poirier\, 705-896-4935\, m.poirier@krasmancentre.ca
URL:https://krasmancentre.com/event/peers-in-the-park-3/
LOCATION:Alliston\, Riverdale Park\, Alliston\, Ontario\, L9R 1M1\, Canada
CATEGORIES:COVID,Peer Support
ATTACH;FMTTYPE=image/png:https://krasmancentre.com/wp-content/uploads/2020/08/Screen-Shot-2020-08-27-at-11.08.10-AM.png
END:VEVENT
END:VCALENDAR