BEGIN:VCALENDAR
VERSION:2.0
PRODID:-//Krasman Centre - ECPv6.15.20//NONSGML v1.0//EN
CALSCALE:GREGORIAN
METHOD:PUBLISH
X-ORIGINAL-URL:https://krasmancentre.com
X-WR-CALDESC:Events for Krasman Centre
REFRESH-INTERVAL;VALUE=DURATION:PT1H
X-Robots-Tag:noindex
X-PUBLISHED-TTL:PT1H
BEGIN:VTIMEZONE
TZID:America/Toronto
BEGIN:DAYLIGHT
TZOFFSETFROM:-0500
TZOFFSETTO:-0400
TZNAME:EDT
DTSTART:20250309T070000
END:DAYLIGHT
BEGIN:STANDARD
TZOFFSETFROM:-0400
TZOFFSETTO:-0500
TZNAME:EST
DTSTART:20251102T060000
END:STANDARD
BEGIN:DAYLIGHT
TZOFFSETFROM:-0500
TZOFFSETTO:-0400
TZNAME:EDT
DTSTART:20260308T070000
END:DAYLIGHT
BEGIN:STANDARD
TZOFFSETFROM:-0400
TZOFFSETTO:-0500
TZNAME:EST
DTSTART:20261101T060000
END:STANDARD
BEGIN:DAYLIGHT
TZOFFSETFROM:-0500
TZOFFSETTO:-0400
TZNAME:EDT
DTSTART:20270314T070000
END:DAYLIGHT
BEGIN:STANDARD
TZOFFSETFROM:-0400
TZOFFSETTO:-0500
TZNAME:EST
DTSTART:20271107T060000
END:STANDARD
END:VTIMEZONE
BEGIN:VEVENT
DTSTART;TZID=America/Toronto:20260702T170000
DTEND;TZID=America/Toronto:20260702T183000
DTSTAMP:20260421T091848
CREATED:20260214T214948Z
LAST-MODIFIED:20260214T214948Z
UID:10003688-1783011600-1783017000@krasmancentre.com
SUMMARY:The Meeting Spot
DESCRIPTION:
URL:https://krasmancentre.com/event/the-meeting-spot/2026-07-02/
CATEGORIES:Virtual
LOCATION:https://forms.office.com/r/KBjhY4AWsY
END:VEVENT
BEGIN:VEVENT
DTSTART;TZID=America/Toronto:20260709T170000
DTEND;TZID=America/Toronto:20260709T183000
DTSTAMP:20260421T091848
CREATED:20260214T214948Z
LAST-MODIFIED:20260214T214948Z
UID:10003689-1783616400-1783621800@krasmancentre.com
SUMMARY:The Meeting Spot
DESCRIPTION:
URL:https://krasmancentre.com/event/the-meeting-spot/2026-07-09/
CATEGORIES:Virtual
LOCATION:https://forms.office.com/r/KBjhY4AWsY
END:VEVENT
BEGIN:VEVENT
DTSTART;TZID=America/Toronto:20260716T170000
DTEND;TZID=America/Toronto:20260716T183000
DTSTAMP:20260421T091848
CREATED:20260214T214948Z
LAST-MODIFIED:20260214T214948Z
UID:10003690-1784221200-1784226600@krasmancentre.com
SUMMARY:The Meeting Spot
DESCRIPTION:
URL:https://krasmancentre.com/event/the-meeting-spot/2026-07-16/
CATEGORIES:Virtual
LOCATION:https://forms.office.com/r/KBjhY4AWsY
END:VEVENT
BEGIN:VEVENT
DTSTART;TZID=America/Toronto:20260723T170000
DTEND;TZID=America/Toronto:20260723T183000
DTSTAMP:20260421T091848
CREATED:20260214T214948Z
LAST-MODIFIED:20260214T214948Z
UID:10003691-1784826000-1784831400@krasmancentre.com
SUMMARY:The Meeting Spot
DESCRIPTION:
URL:https://krasmancentre.com/event/the-meeting-spot/2026-07-23/
CATEGORIES:Virtual
LOCATION:https://forms.office.com/r/KBjhY4AWsY
END:VEVENT
BEGIN:VEVENT
DTSTART;TZID=America/Toronto:20260724T160000
DTEND;TZID=America/Toronto:20260724T180000
DTSTAMP:20260421T091848
CREATED:20260417T193745Z
LAST-MODIFIED:20260417T193745Z
UID:10003965-1784908800-1784916000@krasmancentre.com
SUMMARY:LEAMHA
DESCRIPTION:
URL:https://krasmancentre.com/event/leamha-3/2026-07-24/
END:VEVENT
BEGIN:VEVENT
DTSTART;TZID=America/Toronto:20260730T170000
DTEND;TZID=America/Toronto:20260730T183000
DTSTAMP:20260421T091848
CREATED:20260214T214948Z
LAST-MODIFIED:20260214T214948Z
UID:10003692-1785430800-1785436200@krasmancentre.com
SUMMARY:The Meeting Spot
DESCRIPTION:
URL:https://krasmancentre.com/event/the-meeting-spot/2026-07-30/
CATEGORIES:Virtual
LOCATION:https://forms.office.com/r/KBjhY4AWsY
END:VEVENT
BEGIN:VEVENT
DTSTART;TZID=America/Toronto:20260806T170000
DTEND;TZID=America/Toronto:20260806T183000
DTSTAMP:20260421T091848
CREATED:20260214T214948Z
LAST-MODIFIED:20260214T214948Z
UID:10003693-1786035600-1786041000@krasmancentre.com
SUMMARY:The Meeting Spot
DESCRIPTION:
URL:https://krasmancentre.com/event/the-meeting-spot/2026-08-06/
CATEGORIES:Virtual
LOCATION:https://forms.office.com/r/KBjhY4AWsY
END:VEVENT
BEGIN:VEVENT
DTSTART;TZID=America/Toronto:20260813T170000
DTEND;TZID=America/Toronto:20260813T183000
DTSTAMP:20260421T091848
CREATED:20260214T214948Z
LAST-MODIFIED:20260214T214948Z
UID:10003694-1786640400-1786645800@krasmancentre.com
SUMMARY:The Meeting Spot
DESCRIPTION:
URL:https://krasmancentre.com/event/the-meeting-spot/2026-08-13/
CATEGORIES:Virtual
LOCATION:https://forms.office.com/r/KBjhY4AWsY
END:VEVENT
BEGIN:VEVENT
DTSTART;TZID=America/Toronto:20260820T170000
DTEND;TZID=America/Toronto:20260820T183000
DTSTAMP:20260421T091848
CREATED:20260214T214948Z
LAST-MODIFIED:20260214T214948Z
UID:10003695-1787245200-1787250600@krasmancentre.com
SUMMARY:The Meeting Spot
DESCRIPTION:
URL:https://krasmancentre.com/event/the-meeting-spot/2026-08-20/
CATEGORIES:Virtual
LOCATION:https://forms.office.com/r/KBjhY4AWsY
END:VEVENT
BEGIN:VEVENT
DTSTART;TZID=America/Toronto:20260827T170000
DTEND;TZID=America/Toronto:20260827T183000
DTSTAMP:20260421T091848
CREATED:20260214T214948Z
LAST-MODIFIED:20260214T214948Z
UID:10003696-1787850000-1787855400@krasmancentre.com
SUMMARY:The Meeting Spot
DESCRIPTION:
URL:https://krasmancentre.com/event/the-meeting-spot/2026-08-27/
CATEGORIES:Virtual
LOCATION:https://forms.office.com/r/KBjhY4AWsY
END:VEVENT
BEGIN:VEVENT
DTSTART;TZID=America/Toronto:20260828T160000
DTEND;TZID=America/Toronto:20260828T180000
DTSTAMP:20260421T091848
CREATED:20260417T193745Z
LAST-MODIFIED:20260417T193745Z
UID:10003966-1787932800-1787940000@krasmancentre.com
SUMMARY:LEAMHA
DESCRIPTION:
URL:https://krasmancentre.com/event/leamha-3/2026-08-28/
END:VEVENT
BEGIN:VEVENT
DTSTART;TZID=America/Toronto:20260903T170000
DTEND;TZID=America/Toronto:20260903T183000
DTSTAMP:20260421T091849
CREATED:20260214T214948Z
LAST-MODIFIED:20260214T214948Z
UID:10003697-1788454800-1788460200@krasmancentre.com
SUMMARY:The Meeting Spot
DESCRIPTION:
URL:https://krasmancentre.com/event/the-meeting-spot/2026-09-03/
CATEGORIES:Virtual
LOCATION:https://forms.office.com/r/KBjhY4AWsY
END:VEVENT
BEGIN:VEVENT
DTSTART;TZID=America/Toronto:20260910T170000
DTEND;TZID=America/Toronto:20260910T183000
DTSTAMP:20260421T091849
CREATED:20260214T214948Z
LAST-MODIFIED:20260214T214948Z
UID:10003698-1789059600-1789065000@krasmancentre.com
SUMMARY:The Meeting Spot
DESCRIPTION:
URL:https://krasmancentre.com/event/the-meeting-spot/2026-09-10/
CATEGORIES:Virtual
LOCATION:https://forms.office.com/r/KBjhY4AWsY
END:VEVENT
BEGIN:VEVENT
DTSTART;TZID=America/Toronto:20260917T170000
DTEND;TZID=America/Toronto:20260917T183000
DTSTAMP:20260421T091849
CREATED:20260214T214948Z
LAST-MODIFIED:20260214T214948Z
UID:10003699-1789664400-1789669800@krasmancentre.com
SUMMARY:The Meeting Spot
DESCRIPTION:
URL:https://krasmancentre.com/event/the-meeting-spot/2026-09-17/
CATEGORIES:Virtual
LOCATION:https://forms.office.com/r/KBjhY4AWsY
END:VEVENT
BEGIN:VEVENT
DTSTART;TZID=America/Toronto:20260924T170000
DTEND;TZID=America/Toronto:20260924T183000
DTSTAMP:20260421T091849
CREATED:20260214T214948Z
LAST-MODIFIED:20260214T214948Z
UID:10003700-1790269200-1790274600@krasmancentre.com
SUMMARY:The Meeting Spot
DESCRIPTION:
URL:https://krasmancentre.com/event/the-meeting-spot/2026-09-24/
CATEGORIES:Virtual
LOCATION:https://forms.office.com/r/KBjhY4AWsY
END:VEVENT
BEGIN:VEVENT
DTSTART;TZID=America/Toronto:20260925T160000
DTEND;TZID=America/Toronto:20260925T180000
DTSTAMP:20260421T091849
CREATED:20260417T193745Z
LAST-MODIFIED:20260417T193745Z
UID:10003967-1790352000-1790359200@krasmancentre.com
SUMMARY:LEAMHA
DESCRIPTION:
URL:https://krasmancentre.com/event/leamha-3/2026-09-25/
END:VEVENT
BEGIN:VEVENT
DTSTART;TZID=America/Toronto:20261001T170000
DTEND;TZID=America/Toronto:20261001T183000
DTSTAMP:20260421T091849
CREATED:20260214T214948Z
LAST-MODIFIED:20260214T214948Z
UID:10003701-1790874000-1790879400@krasmancentre.com
SUMMARY:The Meeting Spot
DESCRIPTION:
URL:https://krasmancentre.com/event/the-meeting-spot/2026-10-01/
CATEGORIES:Virtual
LOCATION:https://forms.office.com/r/KBjhY4AWsY
END:VEVENT
BEGIN:VEVENT
DTSTART;TZID=America/Toronto:20261008T170000
DTEND;TZID=America/Toronto:20261008T183000
DTSTAMP:20260421T091849
CREATED:20260214T214948Z
LAST-MODIFIED:20260214T214948Z
UID:10003702-1791478800-1791484200@krasmancentre.com
SUMMARY:The Meeting Spot
DESCRIPTION:
URL:https://krasmancentre.com/event/the-meeting-spot/2026-10-08/
CATEGORIES:Virtual
LOCATION:https://forms.office.com/r/KBjhY4AWsY
END:VEVENT
BEGIN:VEVENT
DTSTART;TZID=America/Toronto:20261015T170000
DTEND;TZID=America/Toronto:20261015T183000
DTSTAMP:20260421T091849
CREATED:20260214T214948Z
LAST-MODIFIED:20260214T214948Z
UID:10003703-1792083600-1792089000@krasmancentre.com
SUMMARY:The Meeting Spot
DESCRIPTION:
URL:https://krasmancentre.com/event/the-meeting-spot/2026-10-15/
CATEGORIES:Virtual
LOCATION:https://forms.office.com/r/KBjhY4AWsY
END:VEVENT
BEGIN:VEVENT
DTSTART;TZID=America/Toronto:20261022T170000
DTEND;TZID=America/Toronto:20261022T183000
DTSTAMP:20260421T091849
CREATED:20260214T214948Z
LAST-MODIFIED:20260214T214948Z
UID:10003704-1792688400-1792693800@krasmancentre.com
SUMMARY:The Meeting Spot
DESCRIPTION:
URL:https://krasmancentre.com/event/the-meeting-spot/2026-10-22/
CATEGORIES:Virtual
LOCATION:https://forms.office.com/r/KBjhY4AWsY
END:VEVENT
BEGIN:VEVENT
DTSTART;TZID=America/Toronto:20261023T160000
DTEND;TZID=America/Toronto:20261023T180000
DTSTAMP:20260421T091849
CREATED:20260417T193745Z
LAST-MODIFIED:20260417T193745Z
UID:10003968-1792771200-1792778400@krasmancentre.com
SUMMARY:LEAMHA
DESCRIPTION:
URL:https://krasmancentre.com/event/leamha-3/2026-10-23/
END:VEVENT
BEGIN:VEVENT
DTSTART;TZID=America/Toronto:20261029T170000
DTEND;TZID=America/Toronto:20261029T183000
DTSTAMP:20260421T091849
CREATED:20260214T214948Z
LAST-MODIFIED:20260214T214948Z
UID:10003705-1793293200-1793298600@krasmancentre.com
SUMMARY:The Meeting Spot
DESCRIPTION:
URL:https://krasmancentre.com/event/the-meeting-spot/2026-10-29/
CATEGORIES:Virtual
LOCATION:https://forms.office.com/r/KBjhY4AWsY
END:VEVENT
BEGIN:VEVENT
DTSTART;TZID=America/Toronto:20261105T170000
DTEND;TZID=America/Toronto:20261105T183000
DTSTAMP:20260421T091849
CREATED:20260214T214948Z
LAST-MODIFIED:20260214T214948Z
UID:10003706-1793898000-1793903400@krasmancentre.com
SUMMARY:The Meeting Spot
DESCRIPTION:
URL:https://krasmancentre.com/event/the-meeting-spot/2026-11-05/
CATEGORIES:Virtual
LOCATION:https://forms.office.com/r/KBjhY4AWsY
END:VEVENT
BEGIN:VEVENT
DTSTART;TZID=America/Toronto:20261112T170000
DTEND;TZID=America/Toronto:20261112T183000
DTSTAMP:20260421T091849
CREATED:20260214T214948Z
LAST-MODIFIED:20260214T214948Z
UID:10003707-1794502800-1794508200@krasmancentre.com
SUMMARY:The Meeting Spot
DESCRIPTION:
URL:https://krasmancentre.com/event/the-meeting-spot/2026-11-12/
CATEGORIES:Virtual
LOCATION:https://forms.office.com/r/KBjhY4AWsY
END:VEVENT
BEGIN:VEVENT
DTSTART;TZID=America/Toronto:20261119T170000
DTEND;TZID=America/Toronto:20261119T183000
DTSTAMP:20260421T091849
CREATED:20260214T214948Z
LAST-MODIFIED:20260214T214948Z
UID:10003708-1795107600-1795113000@krasmancentre.com
SUMMARY:The Meeting Spot
DESCRIPTION:
URL:https://krasmancentre.com/event/the-meeting-spot/2026-11-19/
CATEGORIES:Virtual
LOCATION:https://forms.office.com/r/KBjhY4AWsY
END:VEVENT
BEGIN:VEVENT
DTSTART;TZID=America/Toronto:20261126T170000
DTEND;TZID=America/Toronto:20261126T183000
DTSTAMP:20260421T091850
CREATED:20260214T214948Z
LAST-MODIFIED:20260214T214948Z
UID:10003709-1795712400-1795717800@krasmancentre.com
SUMMARY:The Meeting Spot
DESCRIPTION:
URL:https://krasmancentre.com/event/the-meeting-spot/2026-11-26/
CATEGORIES:Virtual
LOCATION:https://forms.office.com/r/KBjhY4AWsY
END:VEVENT
BEGIN:VEVENT
DTSTART;TZID=America/Toronto:20261127T160000
DTEND;TZID=America/Toronto:20261127T180000
DTSTAMP:20260421T091850
CREATED:20260417T193745Z
LAST-MODIFIED:20260417T193745Z
UID:10003969-1795795200-1795802400@krasmancentre.com
SUMMARY:LEAMHA
DESCRIPTION:
URL:https://krasmancentre.com/event/leamha-3/2026-11-27/
END:VEVENT
BEGIN:VEVENT
DTSTART;TZID=America/Toronto:20261203T170000
DTEND;TZID=America/Toronto:20261203T183000
DTSTAMP:20260421T091850
CREATED:20260214T214948Z
LAST-MODIFIED:20260214T214948Z
UID:10003710-1796317200-1796322600@krasmancentre.com
SUMMARY:The Meeting Spot
DESCRIPTION:
URL:https://krasmancentre.com/event/the-meeting-spot/2026-12-03/
CATEGORIES:Virtual
LOCATION:https://forms.office.com/r/KBjhY4AWsY
END:VEVENT
BEGIN:VEVENT
DTSTART;TZID=America/Toronto:20261210T170000
DTEND;TZID=America/Toronto:20261210T183000
DTSTAMP:20260421T091850
CREATED:20260214T214948Z
LAST-MODIFIED:20260214T214948Z
UID:10003711-1796922000-1796927400@krasmancentre.com
SUMMARY:The Meeting Spot
DESCRIPTION:
URL:https://krasmancentre.com/event/the-meeting-spot/2026-12-10/
CATEGORIES:Virtual
LOCATION:https://forms.office.com/r/KBjhY4AWsY
END:VEVENT
BEGIN:VEVENT
DTSTART;TZID=America/Toronto:20261217T170000
DTEND;TZID=America/Toronto:20261217T183000
DTSTAMP:20260421T091850
CREATED:20260214T214948Z
LAST-MODIFIED:20260214T214948Z
UID:10003712-1797526800-1797532200@krasmancentre.com
SUMMARY:The Meeting Spot
DESCRIPTION:
URL:https://krasmancentre.com/event/the-meeting-spot/2026-12-17/
CATEGORIES:Virtual
LOCATION:https://forms.office.com/r/KBjhY4AWsY
END:VEVENT
END:VCALENDAR