BEGIN:VCALENDAR
VERSION:2.0
PRODID:-//Krasman Centre - ECPv6.15.20//NONSGML v1.0//EN
CALSCALE:GREGORIAN
METHOD:PUBLISH
X-WR-CALNAME:Krasman Centre
X-ORIGINAL-URL:https://krasmancentre.com
X-WR-CALDESC:Events for Krasman Centre
REFRESH-INTERVAL;VALUE=DURATION:PT1H
X-Robots-Tag:noindex
X-PUBLISHED-TTL:PT1H
BEGIN:VTIMEZONE
TZID:America/Toronto
BEGIN:DAYLIGHT
TZOFFSETFROM:-0500
TZOFFSETTO:-0400
TZNAME:EDT
DTSTART:20250309T070000
END:DAYLIGHT
BEGIN:STANDARD
TZOFFSETFROM:-0400
TZOFFSETTO:-0500
TZNAME:EST
DTSTART:20251102T060000
END:STANDARD
BEGIN:DAYLIGHT
TZOFFSETFROM:-0500
TZOFFSETTO:-0400
TZNAME:EDT
DTSTART:20260308T070000
END:DAYLIGHT
BEGIN:STANDARD
TZOFFSETFROM:-0400
TZOFFSETTO:-0500
TZNAME:EST
DTSTART:20261101T060000
END:STANDARD
BEGIN:DAYLIGHT
TZOFFSETFROM:-0500
TZOFFSETTO:-0400
TZNAME:EDT
DTSTART:20270314T070000
END:DAYLIGHT
BEGIN:STANDARD
TZOFFSETFROM:-0400
TZOFFSETTO:-0500
TZNAME:EST
DTSTART:20271107T060000
END:STANDARD
END:VTIMEZONE
BEGIN:VEVENT
DTSTART;TZID=America/Toronto:20260407T130000
DTEND;TZID=America/Toronto:20260407T140000
DTSTAMP:20260421T221822
CREATED:20260417T190550Z
LAST-MODIFIED:20260417T191536Z
UID:10003955-1775566800-1775570400@krasmancentre.com
SUMMARY:Exploring Emotions & Behaviors
DESCRIPTION:Emotional Regulation Toolkit
URL:https://krasmancentre.com/event/exploring-emotions-behaviors-3/
LOCATION:https://forms.office.com/r/FYgxGnABb6
END:VEVENT
BEGIN:VEVENT
DTSTART;TZID=America/Toronto:20260407T190000
DTEND;TZID=America/Toronto:20260407T210000
DTSTAMP:20260421T221823
CREATED:20260417T192937Z
LAST-MODIFIED:20260421T181906Z
UID:10003957-1775588400-1775595600@krasmancentre.com
SUMMARY:Family Support
DESCRIPTION:Virtual Family Support Group\n\n\n\nPlease take 2 minutes to complete the form below to register online. The Zoom meeting link will be provided upon registration. \nJoin us for support in a friendly\, non-judgemental space where family members can share their experiences supporting their loved ones with mental health and/or addiction challenges. Know that you are not alone\, and support is there\, offered by those who have walked in your shoes. \nFind a supportive community to share any struggles you may be experiencing\, gain insights and find helpful information and resources for you and your family. \n\nThis group will run weekly every Tuesday from 7-9 pm. \nFor more information\, send an email to familysupport@krasmancentre.com.
URL:https://krasmancentre.com/event/family-support/2026-04-07/
LOCATION:https://forms.cloud.microsoft/r/3in5n6XrE5
END:VEVENT
BEGIN:VEVENT
DTSTART;TZID=America/Toronto:20260409T170000
DTEND;TZID=America/Toronto:20260409T183000
DTSTAMP:20260421T221823
CREATED:20260214T214948Z
LAST-MODIFIED:20260214T214948Z
UID:10003676-1775754000-1775759400@krasmancentre.com
SUMMARY:The Meeting Spot
DESCRIPTION:
URL:https://krasmancentre.com/event/the-meeting-spot/2026-04-09/
CATEGORIES:Virtual
LOCATION:https://forms.office.com/r/KBjhY4AWsY
END:VEVENT
BEGIN:VEVENT
DTSTART;TZID=America/Toronto:20260413T110000
DTEND;TZID=America/Toronto:20260413T123000
DTSTAMP:20260421T221823
CREATED:20260417T185915Z
LAST-MODIFIED:20260421T183154Z
UID:10003952-1776078000-1776083400@krasmancentre.com
SUMMARY:The Meeting Spot
DESCRIPTION:The Meeting Spot Support Group – Virtual Drop-in Group\n\n\n\n\nThe Meeting Spot is an inclusive\, non-judgmental space to share stories of hope\, determination\, and personal experiences while connecting with others. \nMonday – 11:00 am – 12:30 pm\nThursday- 5:00 pm – 6:30 pm \nRegister by filling out the form below.  Registration is required only once for this group.\nTo learn more about all of our virtual groups\, visit https://krasmancentre.com/events/\n\nGot questions? Send us an email at groups@krasmancentre.com
URL:https://krasmancentre.com/event/the-meeting-spot-3/2026-04-13/
LOCATION:Online Via Zoom
END:VEVENT
BEGIN:VEVENT
DTSTART;TZID=America/Toronto:20260414T190000
DTEND;TZID=America/Toronto:20260414T210000
DTSTAMP:20260421T221823
CREATED:20260417T192937Z
LAST-MODIFIED:20260421T181906Z
UID:10003958-1776193200-1776200400@krasmancentre.com
SUMMARY:Family Support
DESCRIPTION:Virtual Family Support Group\n\n\n\nPlease take 2 minutes to complete the form below to register online. The Zoom meeting link will be provided upon registration. \nJoin us for support in a friendly\, non-judgemental space where family members can share their experiences supporting their loved ones with mental health and/or addiction challenges. Know that you are not alone\, and support is there\, offered by those who have walked in your shoes. \nFind a supportive community to share any struggles you may be experiencing\, gain insights and find helpful information and resources for you and your family. \n\nThis group will run weekly every Tuesday from 7-9 pm. \nFor more information\, send an email to familysupport@krasmancentre.com.
URL:https://krasmancentre.com/event/family-support/2026-04-14/
LOCATION:https://forms.cloud.microsoft/r/3in5n6XrE5
END:VEVENT
BEGIN:VEVENT
DTSTART;TZID=America/Toronto:20260416T170000
DTEND;TZID=America/Toronto:20260416T183000
DTSTAMP:20260421T221823
CREATED:20260214T214948Z
LAST-MODIFIED:20260214T214948Z
UID:10003677-1776358800-1776364200@krasmancentre.com
SUMMARY:The Meeting Spot
DESCRIPTION:
URL:https://krasmancentre.com/event/the-meeting-spot/2026-04-16/
CATEGORIES:Virtual
LOCATION:https://forms.office.com/r/KBjhY4AWsY
END:VEVENT
BEGIN:VEVENT
DTSTART;TZID=America/Toronto:20260420T110000
DTEND;TZID=America/Toronto:20260420T123000
DTSTAMP:20260421T221823
CREATED:20260417T185915Z
LAST-MODIFIED:20260421T183154Z
UID:10003953-1776682800-1776688200@krasmancentre.com
SUMMARY:The Meeting Spot
DESCRIPTION:The Meeting Spot Support Group – Virtual Drop-in Group\n\n\n\n\nThe Meeting Spot is an inclusive\, non-judgmental space to share stories of hope\, determination\, and personal experiences while connecting with others. \nMonday – 11:00 am – 12:30 pm\nThursday- 5:00 pm – 6:30 pm \nRegister by filling out the form below.  Registration is required only once for this group.\nTo learn more about all of our virtual groups\, visit https://krasmancentre.com/events/\n\nGot questions? Send us an email at groups@krasmancentre.com
URL:https://krasmancentre.com/event/the-meeting-spot-3/2026-04-20/
LOCATION:Online Via Zoom
END:VEVENT
BEGIN:VEVENT
DTSTART;TZID=America/Toronto:20260421T130000
DTEND;TZID=America/Toronto:20260421T143000
DTSTAMP:20260421T221823
CREATED:20260417T191012Z
LAST-MODIFIED:20260417T191944Z
UID:10003956-1776776400-1776781800@krasmancentre.com
SUMMARY:Exploring Emotions & Behaviors
DESCRIPTION:Communicating Needs & Wants
URL:https://krasmancentre.com/event/exploring-emotions-behaviors-4/
LOCATION:https://forms.office.com/r/FYgxGnABb6
END:VEVENT
BEGIN:VEVENT
DTSTART;TZID=America/Toronto:20260421T190000
DTEND;TZID=America/Toronto:20260421T210000
DTSTAMP:20260421T221823
CREATED:20260417T192937Z
LAST-MODIFIED:20260421T181906Z
UID:10003959-1776798000-1776805200@krasmancentre.com
SUMMARY:Family Support
DESCRIPTION:Virtual Family Support Group\n\n\n\nPlease take 2 minutes to complete the form below to register online. The Zoom meeting link will be provided upon registration. \nJoin us for support in a friendly\, non-judgemental space where family members can share their experiences supporting their loved ones with mental health and/or addiction challenges. Know that you are not alone\, and support is there\, offered by those who have walked in your shoes. \nFind a supportive community to share any struggles you may be experiencing\, gain insights and find helpful information and resources for you and your family. \n\nThis group will run weekly every Tuesday from 7-9 pm. \nFor more information\, send an email to familysupport@krasmancentre.com.
URL:https://krasmancentre.com/event/family-support/2026-04-21/
LOCATION:https://forms.cloud.microsoft/r/3in5n6XrE5
END:VEVENT
BEGIN:VEVENT
DTSTART;TZID=America/Toronto:20260422T140000
DTEND;TZID=America/Toronto:20260422T143000
DTSTAMP:20260421T221823
CREATED:20260417T193436Z
LAST-MODIFIED:20260421T181521Z
UID:10003961-1776866400-1776868200@krasmancentre.com
SUMMARY:The Body Kind Collective
DESCRIPTION:The Body Kind Collective\n 🌿Healing Shame. Building Worth. Reclaiming Your Body. 🌿 \nTopic: Where Body Shame Comes From\n\nStruggling with body image and self-worth can feel like a lonely battle. The Body Kind Collective is a safe\, virtual space for those ready to challenge harmful narratives and move toward a life of self-compassion. This is a weight-neutral\, non-judgmental space free from diet culture.\n\nWhat to Expect:\n \n\nA Safe Community: Connect with others who truly “get it.”\nShame Resilience: Learn to dismantle the internal critic.\nBody Neutrality: Focus on what your body does rather than how it looks.\nPractical Tools: Weekly self-compassion exercises and coping strategies.\n\n\nOur Values:\n \n\nAll Bodies Welcome: We celebrate and protect diversity in size\, ability\, race\, and gender.\nSafe Space: No talk of diets\, weight loss\, or numbers.\nCompassion First: We meet ourselves where we are\, without judgment.\n\n\n***You will receive a Microsoft Teams link via email before attending the group. \nThank you very much for registering for The Body Kind Collective virtual group. We look forward to connecting with you there.\nWarmest Regards\,
URL:https://krasmancentre.com/event/the-body-kind-collective/
LOCATION:https://forms.office.com/r/rumUn1XNFs
END:VEVENT
BEGIN:VEVENT
DTSTART;TZID=America/Toronto:20260423T170000
DTEND;TZID=America/Toronto:20260423T183000
DTSTAMP:20260421T221823
CREATED:20260214T214948Z
LAST-MODIFIED:20260214T214948Z
UID:10003678-1776963600-1776969000@krasmancentre.com
SUMMARY:The Meeting Spot
DESCRIPTION:
URL:https://krasmancentre.com/event/the-meeting-spot/2026-04-23/
CATEGORIES:Virtual
LOCATION:https://forms.office.com/r/KBjhY4AWsY
END:VEVENT
BEGIN:VEVENT
DTSTART;TZID=America/Toronto:20260424T160000
DTEND;TZID=America/Toronto:20260424T180000
DTSTAMP:20260421T221823
CREATED:20260417T193745Z
LAST-MODIFIED:20260417T193745Z
UID:10003962-1777046400-1777053600@krasmancentre.com
SUMMARY:LEAMHA
DESCRIPTION:
URL:https://krasmancentre.com/event/leamha-3/2026-04-24/
END:VEVENT
BEGIN:VEVENT
DTSTART;TZID=America/Toronto:20260427T110000
DTEND;TZID=America/Toronto:20260427T123000
DTSTAMP:20260421T221823
CREATED:20260421T183212Z
LAST-MODIFIED:20260421T183214Z
UID:10003954-1777287600-1777293000@krasmancentre.com
SUMMARY:The Meeting Spot
DESCRIPTION:The Meeting Spot Support Group – Virtual Drop-in Group\n\n\n\n\nThe Meeting Spot is an inclusive\, non-judgmental space to share stories of hope\, determination\, and personal experiences while connecting with others. \nMonday – 11:00 am – 12:30 pm\nThursday- 5:00 pm – 6:30 pm \nRegister by filling out the form below.  Registration is required only once for this group.\nTo learn more about all of our virtual groups\, visit https://krasmancentre.com/events/\n\nGot questions? Send us an email at groups@krasmancentre.com
URL:https://krasmancentre.com/event/the-meeting-spot-3-2/
LOCATION:Online Via Zoom
END:VEVENT
BEGIN:VEVENT
DTSTART;TZID=America/Toronto:20260428T173000
DTEND;TZID=America/Toronto:20260428T183000
DTSTAMP:20260421T221823
CREATED:20260417T193938Z
LAST-MODIFIED:20260421T181214Z
UID:10003972-1777397400-1777401000@krasmancentre.com
SUMMARY:Tough Stuff
DESCRIPTION:Tough Stuff:  An All-Inclusive Addictions Virtual Group\n\n\n\nThe Krasman Centre invites you to an all-inclusive addictions virtual group\, supporting peers with challenges of substance use\, food and behaviours. \nThis is a group for open\, honest discussions about what drives us to do what we do! This is a safe space to meet with others who have lived experience and know how you feel! We will discuss what triggers us and share coping strategies. The Krasman Centre operates from a harm reduction perspective. We are here to support you with any goals you may have. \nCome and join us for the opportunity to access resources\, heal\, and connect. There is a maximum attendance limit for Tough Stuff. A facilitator will follow up with you with the details of the next group.\n\nThe topics for the next 6 sessions are currently being created to bring fresh\, inspiring information to the group. In the past we have had groups such as: \n\nSelf-Compassion\nCoping with Cravings\nForgiveness & Shame\nStrength in Vulnerability\nNurturing our Inner Child\nMindfulness & Meditation\n\nWe are open to your input for topics for this cycle as well as for future groups of Tough Stuff. Please fill out this registration form to join this virtual group. You will receive a confirmation email after you have registered. \nYou only need to register once and you will receive the Zoom link and gentle reminders to connect you to Tough Stuff the day before or the day of\, each group. \nThe first 15 people to attend each session will be admitted to the group. This is to keep each session more intimate for sharing. We have changed the format to open up the group to all members. This will be managed by admitting on a first come\, first serve basis. You will be notified in the waiting room\, if the group for that session is full. \nThank you very much for your interest in Tough Stuff and we are really looking forward to spending quality time with you!
URL:https://krasmancentre.com/event/tough-stuff/
LOCATION:https://forms.office.com/r/QYh0yKvF6w
END:VEVENT
BEGIN:VEVENT
DTSTART;TZID=America/Toronto:20260428T190000
DTEND;TZID=America/Toronto:20260428T210000
DTSTAMP:20260421T221823
CREATED:20260417T192937Z
LAST-MODIFIED:20260421T181906Z
UID:10003960-1777402800-1777410000@krasmancentre.com
SUMMARY:Family Support
DESCRIPTION:Virtual Family Support Group\n\n\n\nPlease take 2 minutes to complete the form below to register online. The Zoom meeting link will be provided upon registration. \nJoin us for support in a friendly\, non-judgemental space where family members can share their experiences supporting their loved ones with mental health and/or addiction challenges. Know that you are not alone\, and support is there\, offered by those who have walked in your shoes. \nFind a supportive community to share any struggles you may be experiencing\, gain insights and find helpful information and resources for you and your family. \n\nThis group will run weekly every Tuesday from 7-9 pm. \nFor more information\, send an email to familysupport@krasmancentre.com.
URL:https://krasmancentre.com/event/family-support/2026-04-28/
LOCATION:https://forms.cloud.microsoft/r/3in5n6XrE5
END:VEVENT
BEGIN:VEVENT
DTSTART;TZID=America/Toronto:20260430T170000
DTEND;TZID=America/Toronto:20260430T183000
DTSTAMP:20260421T221823
CREATED:20260214T214948Z
LAST-MODIFIED:20260214T214948Z
UID:10003679-1777568400-1777573800@krasmancentre.com
SUMMARY:The Meeting Spot
DESCRIPTION:
URL:https://krasmancentre.com/event/the-meeting-spot/2026-04-30/
CATEGORIES:Virtual
LOCATION:https://forms.office.com/r/KBjhY4AWsY
END:VEVENT
BEGIN:VEVENT
DTSTART;TZID=America/Toronto:20260507T170000
DTEND;TZID=America/Toronto:20260507T183000
DTSTAMP:20260421T221824
CREATED:20260214T214948Z
LAST-MODIFIED:20260214T214948Z
UID:10003680-1778173200-1778178600@krasmancentre.com
SUMMARY:The Meeting Spot
DESCRIPTION:
URL:https://krasmancentre.com/event/the-meeting-spot/2026-05-07/
CATEGORIES:Virtual
LOCATION:https://forms.office.com/r/KBjhY4AWsY
END:VEVENT
BEGIN:VEVENT
DTSTART;TZID=America/Toronto:20260514T170000
DTEND;TZID=America/Toronto:20260514T183000
DTSTAMP:20260421T221824
CREATED:20260214T214948Z
LAST-MODIFIED:20260214T214948Z
UID:10003681-1778778000-1778783400@krasmancentre.com
SUMMARY:The Meeting Spot
DESCRIPTION:
URL:https://krasmancentre.com/event/the-meeting-spot/2026-05-14/
CATEGORIES:Virtual
LOCATION:https://forms.office.com/r/KBjhY4AWsY
END:VEVENT
BEGIN:VEVENT
DTSTART;TZID=America/Toronto:20260521T170000
DTEND;TZID=America/Toronto:20260521T183000
DTSTAMP:20260421T221824
CREATED:20260214T214948Z
LAST-MODIFIED:20260214T214948Z
UID:10003682-1779382800-1779388200@krasmancentre.com
SUMMARY:The Meeting Spot
DESCRIPTION:
URL:https://krasmancentre.com/event/the-meeting-spot/2026-05-21/
CATEGORIES:Virtual
LOCATION:https://forms.office.com/r/KBjhY4AWsY
END:VEVENT
BEGIN:VEVENT
DTSTART;TZID=America/Toronto:20260522T160000
DTEND;TZID=America/Toronto:20260522T180000
DTSTAMP:20260421T221824
CREATED:20260417T193745Z
LAST-MODIFIED:20260417T193745Z
UID:10003963-1779465600-1779472800@krasmancentre.com
SUMMARY:LEAMHA
DESCRIPTION:
URL:https://krasmancentre.com/event/leamha-3/2026-05-22/
END:VEVENT
BEGIN:VEVENT
DTSTART;TZID=America/Toronto:20260528T170000
DTEND;TZID=America/Toronto:20260528T183000
DTSTAMP:20260421T221824
CREATED:20260214T214948Z
LAST-MODIFIED:20260214T214948Z
UID:10003683-1779987600-1779993000@krasmancentre.com
SUMMARY:The Meeting Spot
DESCRIPTION:
URL:https://krasmancentre.com/event/the-meeting-spot/2026-05-28/
CATEGORIES:Virtual
LOCATION:https://forms.office.com/r/KBjhY4AWsY
END:VEVENT
BEGIN:VEVENT
DTSTART;TZID=America/Toronto:20260604T170000
DTEND;TZID=America/Toronto:20260604T183000
DTSTAMP:20260421T221824
CREATED:20260214T214948Z
LAST-MODIFIED:20260214T214948Z
UID:10003684-1780592400-1780597800@krasmancentre.com
SUMMARY:The Meeting Spot
DESCRIPTION:
URL:https://krasmancentre.com/event/the-meeting-spot/2026-06-04/
CATEGORIES:Virtual
LOCATION:https://forms.office.com/r/KBjhY4AWsY
END:VEVENT
BEGIN:VEVENT
DTSTART;TZID=America/Toronto:20260611T170000
DTEND;TZID=America/Toronto:20260611T183000
DTSTAMP:20260421T221824
CREATED:20260214T214948Z
LAST-MODIFIED:20260214T214948Z
UID:10003685-1781197200-1781202600@krasmancentre.com
SUMMARY:The Meeting Spot
DESCRIPTION:
URL:https://krasmancentre.com/event/the-meeting-spot/2026-06-11/
CATEGORIES:Virtual
LOCATION:https://forms.office.com/r/KBjhY4AWsY
END:VEVENT
BEGIN:VEVENT
DTSTART;TZID=America/Toronto:20260618T170000
DTEND;TZID=America/Toronto:20260618T183000
DTSTAMP:20260421T221824
CREATED:20260214T214948Z
LAST-MODIFIED:20260214T214948Z
UID:10003686-1781802000-1781807400@krasmancentre.com
SUMMARY:The Meeting Spot
DESCRIPTION:
URL:https://krasmancentre.com/event/the-meeting-spot/2026-06-18/
CATEGORIES:Virtual
LOCATION:https://forms.office.com/r/KBjhY4AWsY
END:VEVENT
BEGIN:VEVENT
DTSTART;TZID=America/Toronto:20260625T170000
DTEND;TZID=America/Toronto:20260625T183000
DTSTAMP:20260421T221824
CREATED:20260214T214948Z
LAST-MODIFIED:20260214T214948Z
UID:10003687-1782406800-1782412200@krasmancentre.com
SUMMARY:The Meeting Spot
DESCRIPTION:
URL:https://krasmancentre.com/event/the-meeting-spot/2026-06-25/
CATEGORIES:Virtual
LOCATION:https://forms.office.com/r/KBjhY4AWsY
END:VEVENT
BEGIN:VEVENT
DTSTART;TZID=America/Toronto:20260626T160000
DTEND;TZID=America/Toronto:20260626T180000
DTSTAMP:20260421T221824
CREATED:20260417T193745Z
LAST-MODIFIED:20260417T193745Z
UID:10003964-1782489600-1782496800@krasmancentre.com
SUMMARY:LEAMHA
DESCRIPTION:
URL:https://krasmancentre.com/event/leamha-3/2026-06-26/
END:VEVENT
BEGIN:VEVENT
DTSTART;TZID=America/Toronto:20260702T170000
DTEND;TZID=America/Toronto:20260702T183000
DTSTAMP:20260421T221824
CREATED:20260214T214948Z
LAST-MODIFIED:20260214T214948Z
UID:10003688-1783011600-1783017000@krasmancentre.com
SUMMARY:The Meeting Spot
DESCRIPTION:
URL:https://krasmancentre.com/event/the-meeting-spot/2026-07-02/
CATEGORIES:Virtual
LOCATION:https://forms.office.com/r/KBjhY4AWsY
END:VEVENT
BEGIN:VEVENT
DTSTART;TZID=America/Toronto:20260709T170000
DTEND;TZID=America/Toronto:20260709T183000
DTSTAMP:20260421T221824
CREATED:20260214T214948Z
LAST-MODIFIED:20260214T214948Z
UID:10003689-1783616400-1783621800@krasmancentre.com
SUMMARY:The Meeting Spot
DESCRIPTION:
URL:https://krasmancentre.com/event/the-meeting-spot/2026-07-09/
CATEGORIES:Virtual
LOCATION:https://forms.office.com/r/KBjhY4AWsY
END:VEVENT
BEGIN:VEVENT
DTSTART;TZID=America/Toronto:20260716T170000
DTEND;TZID=America/Toronto:20260716T183000
DTSTAMP:20260421T221824
CREATED:20260214T214948Z
LAST-MODIFIED:20260214T214948Z
UID:10003690-1784221200-1784226600@krasmancentre.com
SUMMARY:The Meeting Spot
DESCRIPTION:
URL:https://krasmancentre.com/event/the-meeting-spot/2026-07-16/
CATEGORIES:Virtual
LOCATION:https://forms.office.com/r/KBjhY4AWsY
END:VEVENT
BEGIN:VEVENT
DTSTART;TZID=America/Toronto:20260723T170000
DTEND;TZID=America/Toronto:20260723T183000
DTSTAMP:20260421T221824
CREATED:20260214T214948Z
LAST-MODIFIED:20260214T214948Z
UID:10003691-1784826000-1784831400@krasmancentre.com
SUMMARY:The Meeting Spot
DESCRIPTION:
URL:https://krasmancentre.com/event/the-meeting-spot/2026-07-23/
CATEGORIES:Virtual
LOCATION:https://forms.office.com/r/KBjhY4AWsY
END:VEVENT
END:VCALENDAR