BEGIN:VCALENDAR
VERSION:2.0
PRODID:-//Krasman Centre - ECPv6.15.20//NONSGML v1.0//EN
CALSCALE:GREGORIAN
METHOD:PUBLISH
X-WR-CALNAME:Krasman Centre
X-ORIGINAL-URL:https://krasmancentre.com
X-WR-CALDESC:Events for Krasman Centre
REFRESH-INTERVAL;VALUE=DURATION:PT1H
X-Robots-Tag:noindex
X-PUBLISHED-TTL:PT1H
BEGIN:VTIMEZONE
TZID:America/Toronto
BEGIN:DAYLIGHT
TZOFFSETFROM:-0500
TZOFFSETTO:-0400
TZNAME:EDT
DTSTART:20250309T070000
END:DAYLIGHT
BEGIN:STANDARD
TZOFFSETFROM:-0400
TZOFFSETTO:-0500
TZNAME:EST
DTSTART:20251102T060000
END:STANDARD
BEGIN:DAYLIGHT
TZOFFSETFROM:-0500
TZOFFSETTO:-0400
TZNAME:EDT
DTSTART:20260308T070000
END:DAYLIGHT
BEGIN:STANDARD
TZOFFSETFROM:-0400
TZOFFSETTO:-0500
TZNAME:EST
DTSTART:20261101T060000
END:STANDARD
BEGIN:DAYLIGHT
TZOFFSETFROM:-0500
TZOFFSETTO:-0400
TZNAME:EDT
DTSTART:20270314T070000
END:DAYLIGHT
BEGIN:STANDARD
TZOFFSETFROM:-0400
TZOFFSETTO:-0500
TZNAME:EST
DTSTART:20271107T060000
END:STANDARD
END:VTIMEZONE
BEGIN:VEVENT
DTSTART;TZID=America/Toronto:20260421T190000
DTEND;TZID=America/Toronto:20260421T210000
DTSTAMP:20260422T175035
CREATED:20260417T192937Z
LAST-MODIFIED:20260421T181906Z
UID:10003959-1776798000-1776805200@krasmancentre.com
SUMMARY:Family Support
DESCRIPTION:Virtual Family Support Group\n\n\n\nPlease take 2 minutes to complete the form below to register online. The Zoom meeting link will be provided upon registration. \nJoin us for support in a friendly\, non-judgemental space where family members can share their experiences supporting their loved ones with mental health and/or addiction challenges. Know that you are not alone\, and support is there\, offered by those who have walked in your shoes. \nFind a supportive community to share any struggles you may be experiencing\, gain insights and find helpful information and resources for you and your family. \n\nThis group will run weekly every Tuesday from 7-9 pm. \nFor more information\, send an email to familysupport@krasmancentre.com.
URL:https://krasmancentre.com/event/family-support/2026-04-21/
LOCATION:https://forms.cloud.microsoft/r/3in5n6XrE5
END:VEVENT
BEGIN:VEVENT
DTSTART;TZID=America/Toronto:20260421T130000
DTEND;TZID=America/Toronto:20260421T143000
DTSTAMP:20260422T175035
CREATED:20260417T191012Z
LAST-MODIFIED:20260417T191944Z
UID:10003956-1776776400-1776781800@krasmancentre.com
SUMMARY:Exploring Emotions & Behaviors
DESCRIPTION:Communicating Needs & Wants
URL:https://krasmancentre.com/event/exploring-emotions-behaviors-4/
LOCATION:https://forms.office.com/r/FYgxGnABb6
END:VEVENT
BEGIN:VEVENT
DTSTART;TZID=America/Toronto:20260420T110000
DTEND;TZID=America/Toronto:20260420T123000
DTSTAMP:20260422T175035
CREATED:20260417T185915Z
LAST-MODIFIED:20260421T183154Z
UID:10003953-1776682800-1776688200@krasmancentre.com
SUMMARY:The Meeting Spot
DESCRIPTION:The Meeting Spot Support Group – Virtual Drop-in Group\n\n\n\n\nThe Meeting Spot is an inclusive\, non-judgmental space to share stories of hope\, determination\, and personal experiences while connecting with others. \nMonday – 11:00 am – 12:30 pm\nThursday- 5:00 pm – 6:30 pm \nRegister by filling out the form below.  Registration is required only once for this group.\nTo learn more about all of our virtual groups\, visit https://krasmancentre.com/events/\n\nGot questions? Send us an email at groups@krasmancentre.com
URL:https://krasmancentre.com/event/the-meeting-spot-3/2026-04-20/
LOCATION:Online Via Zoom
END:VEVENT
BEGIN:VEVENT
DTSTART;TZID=America/Toronto:20260416T170000
DTEND;TZID=America/Toronto:20260416T183000
DTSTAMP:20260422T175035
CREATED:20260214T214948Z
LAST-MODIFIED:20260214T214948Z
UID:10003677-1776358800-1776364200@krasmancentre.com
SUMMARY:The Meeting Spot
DESCRIPTION:
URL:https://krasmancentre.com/event/the-meeting-spot/2026-04-16/
CATEGORIES:Virtual
LOCATION:https://forms.office.com/r/KBjhY4AWsY
END:VEVENT
BEGIN:VEVENT
DTSTART;TZID=America/Toronto:20260414T190000
DTEND;TZID=America/Toronto:20260414T210000
DTSTAMP:20260422T175036
CREATED:20260417T192937Z
LAST-MODIFIED:20260421T181906Z
UID:10003958-1776193200-1776200400@krasmancentre.com
SUMMARY:Family Support
DESCRIPTION:Virtual Family Support Group\n\n\n\nPlease take 2 minutes to complete the form below to register online. The Zoom meeting link will be provided upon registration. \nJoin us for support in a friendly\, non-judgemental space where family members can share their experiences supporting their loved ones with mental health and/or addiction challenges. Know that you are not alone\, and support is there\, offered by those who have walked in your shoes. \nFind a supportive community to share any struggles you may be experiencing\, gain insights and find helpful information and resources for you and your family. \n\nThis group will run weekly every Tuesday from 7-9 pm. \nFor more information\, send an email to familysupport@krasmancentre.com.
URL:https://krasmancentre.com/event/family-support/2026-04-14/
LOCATION:https://forms.cloud.microsoft/r/3in5n6XrE5
END:VEVENT
BEGIN:VEVENT
DTSTART;TZID=America/Toronto:20260413T110000
DTEND;TZID=America/Toronto:20260413T123000
DTSTAMP:20260422T175036
CREATED:20260417T185915Z
LAST-MODIFIED:20260421T183154Z
UID:10003952-1776078000-1776083400@krasmancentre.com
SUMMARY:The Meeting Spot
DESCRIPTION:The Meeting Spot Support Group – Virtual Drop-in Group\n\n\n\n\nThe Meeting Spot is an inclusive\, non-judgmental space to share stories of hope\, determination\, and personal experiences while connecting with others. \nMonday – 11:00 am – 12:30 pm\nThursday- 5:00 pm – 6:30 pm \nRegister by filling out the form below.  Registration is required only once for this group.\nTo learn more about all of our virtual groups\, visit https://krasmancentre.com/events/\n\nGot questions? Send us an email at groups@krasmancentre.com
URL:https://krasmancentre.com/event/the-meeting-spot-3/2026-04-13/
LOCATION:Online Via Zoom
END:VEVENT
BEGIN:VEVENT
DTSTART;TZID=America/Toronto:20260409T170000
DTEND;TZID=America/Toronto:20260409T183000
DTSTAMP:20260422T175036
CREATED:20260214T214948Z
LAST-MODIFIED:20260214T214948Z
UID:10003676-1775754000-1775759400@krasmancentre.com
SUMMARY:The Meeting Spot
DESCRIPTION:
URL:https://krasmancentre.com/event/the-meeting-spot/2026-04-09/
CATEGORIES:Virtual
LOCATION:https://forms.office.com/r/KBjhY4AWsY
END:VEVENT
BEGIN:VEVENT
DTSTART;TZID=America/Toronto:20260407T190000
DTEND;TZID=America/Toronto:20260407T210000
DTSTAMP:20260422T175036
CREATED:20260417T192937Z
LAST-MODIFIED:20260421T181906Z
UID:10003957-1775588400-1775595600@krasmancentre.com
SUMMARY:Family Support
DESCRIPTION:Virtual Family Support Group\n\n\n\nPlease take 2 minutes to complete the form below to register online. The Zoom meeting link will be provided upon registration. \nJoin us for support in a friendly\, non-judgemental space where family members can share their experiences supporting their loved ones with mental health and/or addiction challenges. Know that you are not alone\, and support is there\, offered by those who have walked in your shoes. \nFind a supportive community to share any struggles you may be experiencing\, gain insights and find helpful information and resources for you and your family. \n\nThis group will run weekly every Tuesday from 7-9 pm. \nFor more information\, send an email to familysupport@krasmancentre.com.
URL:https://krasmancentre.com/event/family-support/2026-04-07/
LOCATION:https://forms.cloud.microsoft/r/3in5n6XrE5
END:VEVENT
BEGIN:VEVENT
DTSTART;TZID=America/Toronto:20260407T130000
DTEND;TZID=America/Toronto:20260407T140000
DTSTAMP:20260422T175036
CREATED:20260417T190550Z
LAST-MODIFIED:20260417T191536Z
UID:10003955-1775566800-1775570400@krasmancentre.com
SUMMARY:Exploring Emotions & Behaviors
DESCRIPTION:Emotional Regulation Toolkit
URL:https://krasmancentre.com/event/exploring-emotions-behaviors-3/
LOCATION:https://forms.office.com/r/FYgxGnABb6
END:VEVENT
BEGIN:VEVENT
DTSTART;TZID=America/Toronto:20260406T110000
DTEND;TZID=America/Toronto:20260406T123000
DTSTAMP:20260422T175036
CREATED:20260417T185915Z
LAST-MODIFIED:20260421T183154Z
UID:10003951-1775473200-1775478600@krasmancentre.com
SUMMARY:The Meeting Spot
DESCRIPTION:The Meeting Spot Support Group – Virtual Drop-in Group\n\n\n\n\nThe Meeting Spot is an inclusive\, non-judgmental space to share stories of hope\, determination\, and personal experiences while connecting with others. \nMonday – 11:00 am – 12:30 pm\nThursday- 5:00 pm – 6:30 pm \nRegister by filling out the form below.  Registration is required only once for this group.\nTo learn more about all of our virtual groups\, visit https://krasmancentre.com/events/\n\nGot questions? Send us an email at groups@krasmancentre.com
URL:https://krasmancentre.com/event/the-meeting-spot-3/2026-04-06/
LOCATION:Online Via Zoom
END:VEVENT
BEGIN:VEVENT
DTSTART;TZID=America/Toronto:20260402T170000
DTEND;TZID=America/Toronto:20260402T183000
DTSTAMP:20260422T175036
CREATED:20260214T214948Z
LAST-MODIFIED:20260214T214948Z
UID:10003675-1775149200-1775154600@krasmancentre.com
SUMMARY:The Meeting Spot
DESCRIPTION:
URL:https://krasmancentre.com/event/the-meeting-spot/2026-04-02/
CATEGORIES:Virtual
LOCATION:https://forms.office.com/r/KBjhY4AWsY
END:VEVENT
BEGIN:VEVENT
DTSTART;TZID=America/Toronto:20260330T110000
DTEND;TZID=America/Toronto:20260330T123000
DTSTAMP:20260422T175037
CREATED:20260217T181158Z
LAST-MODIFIED:20260217T181158Z
UID:10003938-1774868400-1774873800@krasmancentre.com
SUMMARY:The Meeting Spot
DESCRIPTION:
URL:https://krasmancentre.com/event/the-meeting-spot-2/2026-03-30/
CATEGORIES:Virtual
LOCATION:https://forms.office.com/Pages/ResponsePage.aspx?id=KiVTfh7gY0CNaUPh_hUq9aIr8f07hiVItnMxq-ERLIRUREhYSFg1MllVWlRHRjc3MksyNjRCUTJVTS4u
END:VEVENT
BEGIN:VEVENT
DTSTART;TZID=America/Toronto:20260327T160000
DTEND;TZID=America/Toronto:20260327T180000
DTSTAMP:20260422T175037
CREATED:20260217T192858Z
LAST-MODIFIED:20260227T210100Z
UID:10003943-1774627200-1774634400@krasmancentre.com
SUMMARY:LEAMHA
DESCRIPTION:
URL:https://krasmancentre.com/event/leamha-2/2026-03-27/2/
CATEGORIES:Virtual
LOCATION:https://forms.office.com/r/rjKTgMY2eH
END:VEVENT
BEGIN:VEVENT
DTSTART;TZID=America/Toronto:20260327T080000
DTEND;TZID=America/Toronto:20260327T170000
DTSTAMP:20260422T175037
CREATED:20260217T192858Z
LAST-MODIFIED:20260227T210100Z
UID:10003950-1774598400-1774630800@krasmancentre.com
SUMMARY:LEAMHA
DESCRIPTION:
URL:https://krasmancentre.com/event/leamha-2/2026-03-27/1/
CATEGORIES:Virtual
LOCATION:https://forms.office.com/r/rjKTgMY2eH
END:VEVENT
BEGIN:VEVENT
DTSTART;TZID=America/Toronto:20260326T170000
DTEND;TZID=America/Toronto:20260326T183000
DTSTAMP:20260422T175037
CREATED:20260214T214948Z
LAST-MODIFIED:20260214T214948Z
UID:10003674-1774544400-1774549800@krasmancentre.com
SUMMARY:The Meeting Spot
DESCRIPTION:
URL:https://krasmancentre.com/event/the-meeting-spot/2026-03-26/
CATEGORIES:Virtual
LOCATION:https://forms.office.com/r/KBjhY4AWsY
END:VEVENT
BEGIN:VEVENT
DTSTART;TZID=America/Toronto:20260324T170000
DTEND;TZID=America/Toronto:20260324T183000
DTSTAMP:20260422T175037
CREATED:20260217T185800Z
LAST-MODIFIED:20260217T192054Z
UID:10003941-1774371600-1774377000@krasmancentre.com
SUMMARY:Tough Stuff
DESCRIPTION:
URL:https://krasmancentre.com/event/https-forms-office-com-r-qyh0ykvf6wtough-stuff/2026-03-24/
CATEGORIES:Virtual
LOCATION:https://forms.office.com/r/QYh0yKvF6w
END:VEVENT
BEGIN:VEVENT
DTSTART;TZID=America/Toronto:20260323T110000
DTEND;TZID=America/Toronto:20260323T123000
DTSTAMP:20260422T175037
CREATED:20260217T181158Z
LAST-MODIFIED:20260217T181158Z
UID:10003937-1774263600-1774269000@krasmancentre.com
SUMMARY:The Meeting Spot
DESCRIPTION:
URL:https://krasmancentre.com/event/the-meeting-spot-2/2026-03-23/
CATEGORIES:Virtual
LOCATION:https://forms.office.com/Pages/ResponsePage.aspx?id=KiVTfh7gY0CNaUPh_hUq9aIr8f07hiVItnMxq-ERLIRUREhYSFg1MllVWlRHRjc3MksyNjRCUTJVTS4u
END:VEVENT
BEGIN:VEVENT
DTSTART;TZID=America/Toronto:20260320T130000
DTEND;TZID=America/Toronto:20260320T140000
DTSTAMP:20260422T175037
CREATED:20260227T194926Z
LAST-MODIFIED:20260227T195237Z
UID:10003949-1774011600-1774015200@krasmancentre.com
SUMMARY:Big Ideas\, Open Minds : Thoughts Inspired by TedX
DESCRIPTION:
URL:https://krasmancentre.com/event/big-ideas-open-minds-thoughts-inspired-by-tedx-2/2026-03-20/
LOCATION:Online Via Zoom
CATEGORIES:Virtual
END:VEVENT
BEGIN:VEVENT
DTSTART;TZID=America/Toronto:20260319T170000
DTEND;TZID=America/Toronto:20260319T183000
DTSTAMP:20260422T175038
CREATED:20260214T214948Z
LAST-MODIFIED:20260214T214948Z
UID:10003673-1773939600-1773945000@krasmancentre.com
SUMMARY:The Meeting Spot
DESCRIPTION:
URL:https://krasmancentre.com/event/the-meeting-spot/2026-03-19/
CATEGORIES:Virtual
LOCATION:https://forms.office.com/r/KBjhY4AWsY
END:VEVENT
BEGIN:VEVENT
DTSTART;TZID=America/Toronto:20260317T130000
DTEND;TZID=America/Toronto:20260317T143000
DTSTAMP:20260422T175038
CREATED:20260227T194303Z
LAST-MODIFIED:20260227T194303Z
UID:10003945-1773752400-1773757800@krasmancentre.com
SUMMARY:Exploring Emotions & Behaviors
DESCRIPTION:
URL:https://krasmancentre.com/event/exploring-emotions-behaviors-2/2026-03-17/
LOCATION:Online Via Zoom
END:VEVENT
BEGIN:VEVENT
DTSTART;TZID=America/Toronto:20260316T110000
DTEND;TZID=America/Toronto:20260316T123000
DTSTAMP:20260422T175038
CREATED:20260217T181158Z
LAST-MODIFIED:20260217T181158Z
UID:10003936-1773658800-1773664200@krasmancentre.com
SUMMARY:The Meeting Spot
DESCRIPTION:
URL:https://krasmancentre.com/event/the-meeting-spot-2/2026-03-16/
CATEGORIES:Virtual
LOCATION:https://forms.office.com/Pages/ResponsePage.aspx?id=KiVTfh7gY0CNaUPh_hUq9aIr8f07hiVItnMxq-ERLIRUREhYSFg1MllVWlRHRjc3MksyNjRCUTJVTS4u
END:VEVENT
BEGIN:VEVENT
DTSTART;TZID=America/Toronto:20260312T170000
DTEND;TZID=America/Toronto:20260312T183000
DTSTAMP:20260422T175038
CREATED:20260214T214948Z
LAST-MODIFIED:20260214T214948Z
UID:10003672-1773334800-1773340200@krasmancentre.com
SUMMARY:The Meeting Spot
DESCRIPTION:
URL:https://krasmancentre.com/event/the-meeting-spot/2026-03-12/
CATEGORIES:Virtual
LOCATION:https://forms.office.com/r/KBjhY4AWsY
END:VEVENT
BEGIN:VEVENT
DTSTART;TZID=America/Toronto:20260311T140000
DTEND;TZID=America/Toronto:20260311T153000
DTSTAMP:20260422T175038
CREATED:20260227T194625Z
LAST-MODIFIED:20260227T195514Z
UID:10003947-1773237600-1773243000@krasmancentre.com
SUMMARY:Coping With Grief
DESCRIPTION:
URL:https://krasmancentre.com/event/coping-with-grief-10/2026-03-11/
LOCATION:Online Via Zoom
CATEGORIES:Virtual
END:VEVENT
BEGIN:VEVENT
DTSTART;TZID=America/Toronto:20260310T170000
DTEND;TZID=America/Toronto:20260310T183000
DTSTAMP:20260422T175038
CREATED:20260217T185800Z
LAST-MODIFIED:20260217T192054Z
UID:10003940-1773162000-1773167400@krasmancentre.com
SUMMARY:Tough Stuff
DESCRIPTION:
URL:https://krasmancentre.com/event/https-forms-office-com-r-qyh0ykvf6wtough-stuff/2026-03-10/
CATEGORIES:Virtual
LOCATION:https://forms.office.com/r/QYh0yKvF6w
END:VEVENT
BEGIN:VEVENT
DTSTART;TZID=America/Toronto:20260309T110000
DTEND;TZID=America/Toronto:20260309T123000
DTSTAMP:20260422T175038
CREATED:20260217T181158Z
LAST-MODIFIED:20260217T181158Z
UID:10003935-1773054000-1773059400@krasmancentre.com
SUMMARY:The Meeting Spot
DESCRIPTION:
URL:https://krasmancentre.com/event/the-meeting-spot-2/2026-03-09/
CATEGORIES:Virtual
LOCATION:https://forms.office.com/Pages/ResponsePage.aspx?id=KiVTfh7gY0CNaUPh_hUq9aIr8f07hiVItnMxq-ERLIRUREhYSFg1MllVWlRHRjc3MksyNjRCUTJVTS4u
END:VEVENT
BEGIN:VEVENT
DTSTART;TZID=America/Toronto:20260306T130000
DTEND;TZID=America/Toronto:20260306T140000
DTSTAMP:20260422T175038
CREATED:20260227T194926Z
LAST-MODIFIED:20260227T195237Z
UID:10003948-1772802000-1772805600@krasmancentre.com
SUMMARY:Big Ideas\, Open Minds : Thoughts Inspired by TedX
DESCRIPTION:
URL:https://krasmancentre.com/event/big-ideas-open-minds-thoughts-inspired-by-tedx-2/2026-03-06/
LOCATION:Online Via Zoom
CATEGORIES:Virtual
END:VEVENT
BEGIN:VEVENT
DTSTART;TZID=America/Toronto:20260305T170000
DTEND;TZID=America/Toronto:20260305T183000
DTSTAMP:20260422T175038
CREATED:20260214T214948Z
LAST-MODIFIED:20260214T214948Z
UID:10003671-1772730000-1772735400@krasmancentre.com
SUMMARY:The Meeting Spot
DESCRIPTION:
URL:https://krasmancentre.com/event/the-meeting-spot/2026-03-05/
CATEGORIES:Virtual
LOCATION:https://forms.office.com/r/KBjhY4AWsY
END:VEVENT
BEGIN:VEVENT
DTSTART;TZID=America/Toronto:20260304T140000
DTEND;TZID=America/Toronto:20260304T153000
DTSTAMP:20260422T175039
CREATED:20260227T194625Z
LAST-MODIFIED:20260227T195514Z
UID:10003946-1772632800-1772638200@krasmancentre.com
SUMMARY:Coping With Grief
DESCRIPTION:
URL:https://krasmancentre.com/event/coping-with-grief-10/2026-03-04/
LOCATION:Online Via Zoom
CATEGORIES:Virtual
END:VEVENT
BEGIN:VEVENT
DTSTART;TZID=America/Toronto:20260303T130000
DTEND;TZID=America/Toronto:20260303T143000
DTSTAMP:20260422T175039
CREATED:20260227T194303Z
LAST-MODIFIED:20260227T194303Z
UID:10003944-1772542800-1772548200@krasmancentre.com
SUMMARY:Exploring Emotions & Behaviors
DESCRIPTION:
URL:https://krasmancentre.com/event/exploring-emotions-behaviors-2/2026-03-03/
LOCATION:Online Via Zoom
END:VEVENT
BEGIN:VEVENT
DTSTART;TZID=America/Toronto:20260302T110000
DTEND;TZID=America/Toronto:20260302T123000
DTSTAMP:20260422T175039
CREATED:20260217T181158Z
LAST-MODIFIED:20260217T181158Z
UID:10003934-1772449200-1772454600@krasmancentre.com
SUMMARY:The Meeting Spot
DESCRIPTION:
URL:https://krasmancentre.com/event/the-meeting-spot-2/2026-03-02/
CATEGORIES:Virtual
LOCATION:https://forms.office.com/Pages/ResponsePage.aspx?id=KiVTfh7gY0CNaUPh_hUq9aIr8f07hiVItnMxq-ERLIRUREhYSFg1MllVWlRHRjc3MksyNjRCUTJVTS4u
END:VEVENT
END:VCALENDAR