BEGIN:VCALENDAR
VERSION:2.0
PRODID:-//Krasman Centre - ECPv6.15.20//NONSGML v1.0//EN
CALSCALE:GREGORIAN
METHOD:PUBLISH
X-WR-CALNAME:Krasman Centre
X-ORIGINAL-URL:https://krasmancentre.com
X-WR-CALDESC:Events for Krasman Centre
REFRESH-INTERVAL;VALUE=DURATION:PT1H
X-Robots-Tag:noindex
X-PUBLISHED-TTL:PT1H
BEGIN:VTIMEZONE
TZID:America/Toronto
BEGIN:DAYLIGHT
TZOFFSETFROM:-0500
TZOFFSETTO:-0400
TZNAME:EDT
DTSTART:20250309T070000
END:DAYLIGHT
BEGIN:STANDARD
TZOFFSETFROM:-0400
TZOFFSETTO:-0500
TZNAME:EST
DTSTART:20251102T060000
END:STANDARD
BEGIN:DAYLIGHT
TZOFFSETFROM:-0500
TZOFFSETTO:-0400
TZNAME:EDT
DTSTART:20260308T070000
END:DAYLIGHT
BEGIN:STANDARD
TZOFFSETFROM:-0400
TZOFFSETTO:-0500
TZNAME:EST
DTSTART:20261101T060000
END:STANDARD
BEGIN:DAYLIGHT
TZOFFSETFROM:-0500
TZOFFSETTO:-0400
TZNAME:EDT
DTSTART:20270314T070000
END:DAYLIGHT
BEGIN:STANDARD
TZOFFSETFROM:-0400
TZOFFSETTO:-0500
TZNAME:EST
DTSTART:20271107T060000
END:STANDARD
END:VTIMEZONE
BEGIN:VEVENT
DTSTART;TZID=America/Toronto:20260422T140000
DTEND;TZID=America/Toronto:20260422T143000
DTSTAMP:20260421T220411
CREATED:20260417T193436Z
LAST-MODIFIED:20260421T181521Z
UID:10003961-1776866400-1776868200@krasmancentre.com
SUMMARY:The Body Kind Collective
DESCRIPTION:The Body Kind Collective\n 🌿Healing Shame. Building Worth. Reclaiming Your Body. 🌿 \nTopic: Where Body Shame Comes From\n\nStruggling with body image and self-worth can feel like a lonely battle. The Body Kind Collective is a safe\, virtual space for those ready to challenge harmful narratives and move toward a life of self-compassion. This is a weight-neutral\, non-judgmental space free from diet culture.\n\nWhat to Expect:\n \n\nA Safe Community: Connect with others who truly “get it.”\nShame Resilience: Learn to dismantle the internal critic.\nBody Neutrality: Focus on what your body does rather than how it looks.\nPractical Tools: Weekly self-compassion exercises and coping strategies.\n\n\nOur Values:\n \n\nAll Bodies Welcome: We celebrate and protect diversity in size\, ability\, race\, and gender.\nSafe Space: No talk of diets\, weight loss\, or numbers.\nCompassion First: We meet ourselves where we are\, without judgment.\n\n\n***You will receive a Microsoft Teams link via email before attending the group. \nThank you very much for registering for The Body Kind Collective virtual group. We look forward to connecting with you there.\nWarmest Regards\,
URL:https://krasmancentre.com/event/the-body-kind-collective/
LOCATION:https://forms.office.com/r/rumUn1XNFs
END:VEVENT
END:VCALENDAR