BEGIN:VCALENDAR
VERSION:2.0
PRODID:-//Krasman Centre - ECPv6.15.20//NONSGML v1.0//EN
CALSCALE:GREGORIAN
METHOD:PUBLISH
X-ORIGINAL-URL:https://krasmancentre.com
X-WR-CALDESC:Events for Krasman Centre
REFRESH-INTERVAL;VALUE=DURATION:PT1H
X-Robots-Tag:noindex
X-PUBLISHED-TTL:PT1H
BEGIN:VTIMEZONE
TZID:America/Toronto
BEGIN:DAYLIGHT
TZOFFSETFROM:-0500
TZOFFSETTO:-0400
TZNAME:EDT
DTSTART:20240310T070000
END:DAYLIGHT
BEGIN:STANDARD
TZOFFSETFROM:-0400
TZOFFSETTO:-0500
TZNAME:EST
DTSTART:20241103T060000
END:STANDARD
BEGIN:DAYLIGHT
TZOFFSETFROM:-0500
TZOFFSETTO:-0400
TZNAME:EDT
DTSTART:20250309T070000
END:DAYLIGHT
BEGIN:STANDARD
TZOFFSETFROM:-0400
TZOFFSETTO:-0500
TZNAME:EST
DTSTART:20251102T060000
END:STANDARD
BEGIN:DAYLIGHT
TZOFFSETFROM:-0500
TZOFFSETTO:-0400
TZNAME:EDT
DTSTART:20260308T070000
END:DAYLIGHT
BEGIN:STANDARD
TZOFFSETFROM:-0400
TZOFFSETTO:-0500
TZNAME:EST
DTSTART:20261101T060000
END:STANDARD
END:VTIMEZONE
BEGIN:VEVENT
DTSTART;TZID=America/Toronto:20251008T140000
DTEND;TZID=America/Toronto:20251008T160000
DTSTAMP:20260425T134959
CREATED:20250908T134230Z
LAST-MODIFIED:20250908T140100Z
UID:10003386-1759932000-1759939200@krasmancentre.com
SUMMARY:Coping with Grief
DESCRIPTION:Coping with Grief is a six-week bereavement peer support group for individuals who have lost a loved one to help cope with their grief. This group will hold space and support individuals in their healing journey. Participants will discuss how losing a loved one affected them and support each other through sharing stories and ideas. \nPlease note that this is a closed group which runs every Wednesday afternoon for six weeks beginning October 1\, 2025. Pre-registration is required. \nDates: Wednesday\, October 1 to Wednesday\, November 5\, 2025\nTime: 2:00 pm – 4:00 pm\nWhere: Online via Zoom or phone \nClick here to register \nFor more information or to register by phone\, please contact Cathleen Marengeur at (416) 562-8824 or email c.marengeur@krasmancentre.com
URL:https://krasmancentre.com/event/coping-with-grief-8/2025-10-08/
END:VEVENT
BEGIN:VEVENT
DTSTART;TZID=America/Toronto:20251008T170000
DTEND;TZID=America/Toronto:20251008T183000
DTSTAMP:20260425T134959
CREATED:20250929T183050Z
LAST-MODIFIED:20250930T210620Z
UID:10003428-1759942800-1759948200@krasmancentre.com
SUMMARY:International Students Support Group
DESCRIPTION:Are you an international student in Canada looking to connect with others who understand what you’re going through? Join the International Students Peer Support Group — a welcoming\, community-led space hosted by the Krasman Centre\, designed specifically for international students navigating life in Canada. \nWhether you’re dealing with the pressures of studying\, immigration stress\, financial challenges\, or rebuilding your social network\, you’re not alone. Our group facilitators have experience as international students themselves and understand the emotional and practical challenges of starting over in a new country. \nThis is a drop-in style group — join or leave anytime based on your comfort and availability. Come build community\, find support\, and share space with others who get it. Register here or email us at groups@krasmancentre.com \nA Zoom link and reminder will be sent prior to each session. \nContact: Nandini Bhuta\, Virtual Groups Peer Supporter & Coordinator | Phone: (437)-213-6301 | Email: n.bhuta@krasmancentre.com
URL:https://krasmancentre.com/event/international-students-support-group-5/
END:VEVENT
END:VCALENDAR